BEGIN:VCALENDAR
VERSION:2.0
PRODID:spatie/icalendar-generator
DESCRIPTION:Veranstaltungen von 
X-WR-CALDESC:Veranstaltungen von 
REFRESH-INTERVAL;VALUE=DURATION:PT1440M
X-PUBLISHED-TTL:PT1440M
BEGIN:VTIMEZONE
TZID:Etc/GMT+0
BEGIN:STANDARD
DTSTART:20180227T000000Z
TZOFFSETFROM:+0000
TZOFFSETTO:+0000
END:STANDARD
END:VTIMEZONE
BEGIN:VTIMEZONE
TZID:UTC
BEGIN:STANDARD
DTSTART:20250727T084759Z
TZOFFSETFROM:+0000
TZOFFSETTO:+0000
END:STANDARD
END:VTIMEZONE
BEGIN:VEVENT
UID:38-31
DTSTAMP:20260423T084759Z
SUMMARY:Aktionstag für bezahlbaren Wohnraum
LOCATION:
ORGANIZER;CN=Stefan Wilker:MAILTO:stefan.wilker@gmx.de
DTSTART;TZID=Etc/GMT+0;VALUE=DATE:20181124
DTEND;TZID=Etc/GMT+0;VALUE=DATE:20181125
X-ALT-DESC;FMTTYPE=TEXT/HTML:Während des Aktionstags sollen über die ganz
 e Stadt verteilt Informatiosstände und Unterschriftensammlungen organisie
 rt werden. Wir bitten möglichst viele Osnabrücker*innen\, sich zu beteil
 igen und gemeinsam mit den veranstaltenden Organisation Unterschriften zu 
 sammeln. Wer eine Sammlung hier bekanntgeben möchte\, kann gerne eine E-M
 ail an klaus.schwietz@gmx.de schicken oder dieses Kontaktformular nutzen. 
 Wir haben Zusagen für folgende Stände: Altstadt\,&amp;hellip\;
CATEGORIES:Unterschriftensammlung
URL;VALUE=URI:https://bezahlbarer-wohnraum-osnabrueck.de/mc-events/aktionst
 ag-fuer-bezahlbaren-wohnraum/?mc_id=38
END:VEVENT
END:VCALENDAR